BEGIN:VCALENDAR
VERSION:2.0
PRODID:-//Kärntner Akkordeonverein - ECPv6.3.2//NONSGML v1.0//EN
CALSCALE:GREGORIAN
METHOD:PUBLISH
X-WR-CALNAME:Kärntner Akkordeonverein
X-ORIGINAL-URL:http://akkordeonverein.at
X-WR-CALDESC:Veranstaltungen für Kärntner Akkordeonverein
REFRESH-INTERVAL;VALUE=DURATION:PT1H
X-Robots-Tag:noindex
X-PUBLISHED-TTL:PT1H
BEGIN:VTIMEZONE
TZID:Europe/Berlin
BEGIN:DAYLIGHT
TZOFFSETFROM:+0100
TZOFFSETTO:+0200
TZNAME:CEST
DTSTART:20230326T010000
END:DAYLIGHT
BEGIN:STANDARD
TZOFFSETFROM:+0200
TZOFFSETTO:+0100
TZNAME:CET
DTSTART:20231029T010000
END:STANDARD
BEGIN:DAYLIGHT
TZOFFSETFROM:+0100
TZOFFSETTO:+0200
TZNAME:CEST
DTSTART:20240331T010000
END:DAYLIGHT
BEGIN:STANDARD
TZOFFSETFROM:+0200
TZOFFSETTO:+0100
TZNAME:CET
DTSTART:20241027T010000
END:STANDARD
BEGIN:DAYLIGHT
TZOFFSETFROM:+0100
TZOFFSETTO:+0200
TZNAME:CEST
DTSTART:20250330T010000
END:DAYLIGHT
BEGIN:STANDARD
TZOFFSETFROM:+0200
TZOFFSETTO:+0100
TZNAME:CET
DTSTART:20251026T010000
END:STANDARD
BEGIN:DAYLIGHT
TZOFFSETFROM:+0100
TZOFFSETTO:+0200
TZNAME:CEST
DTSTART:20260329T010000
END:DAYLIGHT
BEGIN:STANDARD
TZOFFSETFROM:+0200
TZOFFSETTO:+0100
TZNAME:CET
DTSTART:20261025T010000
END:STANDARD
END:VTIMEZONE
BEGIN:VEVENT
DTSTART;TZID=Europe/Berlin:20260309T180000
DTEND;TZID=Europe/Berlin:20260309T200000
DTSTAMP:20260419T164435
CREATED:20260301T161056Z
LAST-MODIFIED:20260301T161056Z
UID:2291-1773079200-1773086400@akkordeonverein.at
SUMMARY:Podium Akkordeon
DESCRIPTION:Akkordeonklasse der GMPU präsentiert Werke von Barock bis zu Kompositionen zeitgenössischer Komponisten.
URL:http://akkordeonverein.at/event/podium-akkordeon/
LOCATION:Blauer Saal der GMPU\, Mießtalerstrasse 8\, Klagenfurt\, Kärnten\, 9020\, Austria
END:VEVENT
BEGIN:VEVENT
DTSTART;TZID=Europe/Berlin:20260305T090000
DTEND;TZID=Europe/Berlin:20260305T120000
DTSTAMP:20260419T164435
CREATED:20260301T160732Z
LAST-MODIFIED:20260301T160732Z
UID:2289-1772701200-1772712000@akkordeonverein.at
SUMMARY:Prima la musica - Akkordeon solo
DESCRIPTION:
URL:http://akkordeonverein.at/event/prima-la-musica-akkordeon-solo-2/
LOCATION:CMA – Ossiach\, Ossiach 1\, Ossiach\, Kärnten\, 9570\, Österreich
ORGANIZER;CN="Musik der Jugend":MAILTO:musikderjugend@ooe.gv.at
END:VEVENT
BEGIN:VEVENT
DTSTART;TZID=Europe/Berlin:20260304T090000
DTEND;TZID=Europe/Berlin:20260304T170000
DTSTAMP:20260419T164435
CREATED:20260301T160633Z
LAST-MODIFIED:20260301T160633Z
UID:2287-1772614800-1772643600@akkordeonverein.at
SUMMARY:Prima la musica - Akkordeon solo
DESCRIPTION:
URL:http://akkordeonverein.at/event/prima-la-musica-akkordeon-solo/
LOCATION:CMA – Ossiach\, Ossiach 1\, Ossiach\, Kärnten\, 9570\, Österreich
ORGANIZER;CN="Musik der Jugend":MAILTO:musikderjugend@ooe.gv.at
END:VEVENT
BEGIN:VEVENT
DTSTART;TZID=Europe/Berlin:20251005T160000
DTEND;TZID=Europe/Berlin:20251005T180000
DTSTAMP:20260419T164435
CREATED:20250427T090358Z
LAST-MODIFIED:20250427T091633Z
UID:2074-1759680000-1759687200@akkordeonverein.at
SUMMARY:KAO Konzert mit SAS
DESCRIPTION:
URL:http://akkordeonverein.at/event/kao-konzert-gemeinsam-mit-sas/
LOCATION:Musikschule St.Andrä im Lavanttal
END:VEVENT
BEGIN:VEVENT
DTSTART;TZID=Europe/Berlin:20250617T180000
DTEND;TZID=Europe/Berlin:20250617T200000
DTSTAMP:20260419T164435
CREATED:20250427T090146Z
LAST-MODIFIED:20250427T090146Z
UID:2072-1750183200-1750190400@akkordeonverein.at
SUMMARY:KAO Auftritt bei Sounds of Carinthia
DESCRIPTION:
URL:http://akkordeonverein.at/event/kao-auftritt-bei-sounds-of-carinthia/
LOCATION:Konzerthaus Klagenfurt\, Mießtalerstr. 8\, Klagenfurt am Wörthersee\, Kärnten\, 9020
END:VEVENT
BEGIN:VEVENT
DTSTART;TZID=Europe/Berlin:20250525T110000
DTEND;TZID=Europe/Berlin:20250525T130000
DTSTAMP:20260419T164435
CREATED:20250427T085758Z
LAST-MODIFIED:20250428T105252Z
UID:2067-1748170800-1748178000@akkordeonverein.at
SUMMARY:KAO Konzert mit dem Akkordeonorchester Oberkärnten
DESCRIPTION:
URL:http://akkordeonverein.at/event/kao-konzert-mit-dem-ensemble-baerenstark/
LOCATION:Musikschule Spittal/Drau\, 10 Oktoberstr. 9a\, Spittal an der Drau\, Kärnten\, 9800\, Österreich
END:VEVENT
BEGIN:VEVENT
DTSTART;TZID=Europe/Berlin:20250524T140000
DTEND;TZID=Europe/Berlin:20250524T170000
DTSTAMP:20260419T164435
CREATED:20250427T085628Z
LAST-MODIFIED:20250427T090519Z
UID:2063-1748095200-1748106000@akkordeonverein.at
SUMMARY:KAO Konzert mit Akkordeonorchester Saalfelden
DESCRIPTION:
URL:http://akkordeonverein.at/event/konzert-kaerntner-akkordeonorchester-in-saalfelden/
LOCATION:Pfarrsaal Saalfelden\, Lofererstrasse 13\, Saalfelden\, Salzburg\, 5760\, Austria
END:VEVENT
BEGIN:VEVENT
DTSTART;TZID=Europe/Berlin:20250517T090000
DTEND;TZID=Europe/Berlin:20250517T160000
DTSTAMP:20260419T164435
CREATED:20250427T085031Z
LAST-MODIFIED:20250427T091442Z
UID:2061-1747472400-1747497600@akkordeonverein.at
SUMMARY:Proben KAO
DESCRIPTION:Probenzeiten: \nErwachsenen: 09:00 – 16:00 \nKiddys: 09:00 – 14:00
URL:http://akkordeonverein.at/event/proben-kaerntner-akkordeonorchester/
LOCATION:Gustav-Mahler Musikschule Klagenfurt\, Norbert-Artner-Park 1\, Klagenfurt\, Kärnten\, 9020\, Österreich
END:VEVENT
BEGIN:VEVENT
DTSTART;TZID=Europe/Berlin:20250510T090000
DTEND;TZID=Europe/Berlin:20250510T160000
DTSTAMP:20260419T164435
CREATED:20250427T084845Z
LAST-MODIFIED:20250427T091542Z
UID:2059-1746867600-1746892800@akkordeonverein.at
SUMMARY:Proben KAO
DESCRIPTION:Probenzeiten: \nEwachsenen: 09:00 – 16:00 \nKiddys: 09:00 – 14:00
URL:http://akkordeonverein.at/event/probe-kaerntner-akkordeonorchester-5/
LOCATION:Musikschule Villach\, Widmanngasse 12\, Villach\, 9500
END:VEVENT
BEGIN:VEVENT
DTSTART;TZID=Europe/Berlin:20250222T180000
DTEND;TZID=Europe/Berlin:20250222T193000
DTSTAMP:20260419T164435
CREATED:20250126T104013Z
LAST-MODIFIED:20250126T104122Z
UID:1987-1740247200-1740252600@akkordeonverein.at
SUMMARY:Hugo Wolf - Liederabend
DESCRIPTION:Ein Konzert mit ausgewählten Liedern von Hugo Wolf\, neu interpretiert von Thomas Salzmann – Gesang und Jure Pavlič – Akkordeon. Thomas Salzmann und Jure Pavlič setzten die erfolgreiche Serie der Konzerte Gesang mit Akkordeon fort. Nach Schuberts Winterreise (2023)\, Barocken Werken (2024)\, ist heuer Hugo Wolf an der Reihe. Ein besonderer Konzertabend!
URL:http://akkordeonverein.at/event/hugo-wolf-liederabend-3/
LOCATION:Barock Saal Schloss Radovljica\, Linhartov trg 1\, Radovljica\, 4240\, Slovenia
ATTACH;FMTTYPE=image/jpeg:http://akkordeonverein.at/wordpress/wp-content/uploads/2025/01/Hugo-Wolf-Plakat-A2-CS4-20250114-scaled.jpg
END:VEVENT
BEGIN:VEVENT
DTSTART;TZID=Europe/Berlin:20250219T180000
DTEND;TZID=Europe/Berlin:20250219T193000
DTSTAMP:20260419T164435
CREATED:20250126T103622Z
LAST-MODIFIED:20250126T104044Z
UID:1984-1739988000-1739993400@akkordeonverein.at
SUMMARY:Hugo Wolf - Liederabend
DESCRIPTION:Ein Konzert mit ausgewählten Liedern von Hugo Wolf\, neu interpretiert von Thomas Salzmann – Gesang und Jure Pavlič – Akkordeon. Thomas Salzmann und Jure Pavlič setzten die erfolgreiche Serie der Konzerte Gesang mit Akkordeon fort. Nach Schuberts Winterreise (2023)\, Barocken Werken (2024)\, ist heuer Hugo Wolf an der Reihe. Ein besonderer Konzertabend!
URL:http://akkordeonverein.at/event/hugo-wolf-liederabend-2/
LOCATION:Geburtshaus von Hugo Wolf\, Glavni trg 40\, Slovenj Gradec\, 2380\, Slovenia
ATTACH;FMTTYPE=image/jpeg:http://akkordeonverein.at/wordpress/wp-content/uploads/2025/01/Hugo-Wolf-Plakat-A2-CS4-20250114-scaled.jpg
END:VEVENT
BEGIN:VEVENT
DTSTART;TZID=Europe/Berlin:20250217T180000
DTEND;TZID=Europe/Berlin:20250217T193000
DTSTAMP:20260419T164435
CREATED:20250126T103142Z
LAST-MODIFIED:20250126T104058Z
UID:1981-1739815200-1739820600@akkordeonverein.at
SUMMARY:Hugo Wolf - Liederabend
DESCRIPTION:Ein Konzert mit ausgewählten Liedern von Hugo Wolf\, neu interpretiert von Thomas Salzmann – Gesang und Jure Pavlič – Akkordeon. Thomas Salzmann und Jure Pavlič setzten die erfolgreiche Serie der Konzerte Gesang mit Akkordeon fort. Nach Schuberts Winterreise (2023)\, Barocken Werken (2024)\, ist heuer Hugo Wolf an der Reihe. Ein besonderer Konzertabend!
URL:http://akkordeonverein.at/event/hugo-wolf-liederabend/
LOCATION:Gustav Mahler Privatuniversität für Musik\, Mießtalerstr. 8\, Klagenfurt am Wörthersee\, Kärnten\, 9020
ATTACH;FMTTYPE=image/jpeg:http://akkordeonverein.at/wordpress/wp-content/uploads/2025/01/Hugo-Wolf-Plakat-A2-CS4-20250114-scaled.jpg
END:VEVENT
BEGIN:VEVENT
DTSTART;TZID=Europe/Berlin:20250202T180000
DTEND;TZID=Europe/Berlin:20250202T203000
DTSTAMP:20260419T164435
CREATED:20250126T102800Z
LAST-MODIFIED:20250126T102950Z
UID:1977-1738519200-1738528200@akkordeonverein.at
SUMMARY:Auf verwachsenem Pfade
DESCRIPTION:Ein Konzertabend mit bekannten\, aber auch seltener gespielten Stücken der Musikgeschichte von Komponisten wie: J. S. Bach\, W. A. Mozart\, D. Schostakowitsch und A. Piazzolla u.a. Auf höchstem Niveau interpretiert und serviert in manchmal ungewohnten Klangspektren. Die drei Musiker*innen nehmen das Publikum mit auf einen Spaziergang zwischen verschiedenen Stilen\, Konventionen\, Erwartungen und spannenden Entdeckungen. \nKlavier: Elisabeth Väth-Schadler\, Violine: David Pechmann\, Akkordeon: Roman Pechmann
URL:http://akkordeonverein.at/event/auf-verwachsenem-pfade/
LOCATION:Amthof Feldkirchen\, Amthofgasse 5\, Feldkirchen\, Kärnten\, 9560\, Austria
ATTACH;FMTTYPE=image/jpeg:http://akkordeonverein.at/wordpress/wp-content/uploads/2025/01/PHOTO-2025-01-25-17-23-44.jpg
END:VEVENT
BEGIN:VEVENT
DTSTART;VALUE=DATE:20240721
DTEND;VALUE=DATE:20240728
DTSTAMP:20260419T164435
CREATED:20231211T205522Z
LAST-MODIFIED:20231211T205522Z
UID:1712-1721520000-1722124799@akkordeonverein.at
SUMMARY:Akkordeoncamp - Glödnitz '24
DESCRIPTION:Auch heuer findet das Akkordeoncamp in Glödnitz statt. Details folgen.
URL:http://akkordeonverein.at/event/akkordeoncamp-gloednitz-24/
LOCATION:Pension Hochsteiner\, Laas Str. 9\, Glödnitz\, Kärnten\, 9346\, Österreich
END:VEVENT
BEGIN:VEVENT
DTSTART;VALUE=DATE:20240628
DTEND;VALUE=DATE:20240701
DTSTAMP:20260419T164435
CREATED:20231211T203557Z
LAST-MODIFIED:20231211T203632Z
UID:1693-1719532800-1719791999@akkordeonverein.at
SUMMARY:Akkordeontreff
DESCRIPTION:Dieses musikalische Zusammentreffen richtet sich besonders an erwachsene Akkordeon-Spieler*innen\, die in ihrer Freizeit oder im Ruhestand gerne für den eigenen Genuss Akkordeon spielen. Im Vordergrund steht hier das Kennenlernen anderer Musikbegeisterten und der Austausch von gemeinsamen musikalischen Interessen. Geboten werden den Teilnehmer*innen eine Reihe verschiedener Workshops für Anfänger und Fortgeschrittene. \nWeitere Details folgen.
URL:http://akkordeonverein.at/event/akkordeontreff/
LOCATION:Sodalitas – Bildungshaus\, Propsteiweg 1\, Tainach\, Kärnten\, 9121
END:VEVENT
BEGIN:VEVENT
DTSTART;TZID=Europe/Berlin:20240503T183000
DTEND;TZID=Europe/Berlin:20240503T203000
DTSTAMP:20260419T164435
CREATED:20231211T204616Z
LAST-MODIFIED:20231211T204616Z
UID:1703-1714761000-1714768200@akkordeonverein.at
SUMMARY:Konzert des Kärntner Akkordeon-Orchesters + Barock unlimited
DESCRIPTION:Das Kärntner Akkordeon-Orchester bietet ein Querschnitt der Musikliteratur nicht nur für Akkordeon. Der zweite Teil des Konzerts wird von jungen Sänger:innen und Akkordeonist:innen gestaltet mit dem Schwerpunkt auf Werke der Barockkomponisten.
URL:http://akkordeonverein.at/event/konzert-des-kaerntner-akkordeon-orchesters-barock-unlimited-2/
LOCATION:Kärnten
END:VEVENT
BEGIN:VEVENT
DTSTART;TZID=Europe/Berlin:20240428T110000
DTEND;TZID=Europe/Berlin:20240428T130000
DTSTAMP:20260419T164435
CREATED:20231211T204318Z
LAST-MODIFIED:20231211T204749Z
UID:1700-1714302000-1714309200@akkordeonverein.at
SUMMARY:Konzert des Kärntner Akkordeon-Orchesters
DESCRIPTION:Das Kärntner Akkordeon-Orchester bietet ein Querschnitt der Musikliteratur nicht nur für Akkordeon.
URL:http://akkordeonverein.at/event/konzert-des-kaerntner-akkordeon-orchesters-barock-unlimited/
LOCATION:Kärnten
END:VEVENT
BEGIN:VEVENT
DTSTART;TZID=Europe/Berlin:20240427T183000
DTEND;TZID=Europe/Berlin:20240427T200000
DTSTAMP:20260419T164435
CREATED:20231211T204111Z
LAST-MODIFIED:20231211T204111Z
UID:1698-1714242600-1714248000@akkordeonverein.at
SUMMARY:Konzert des Kärntner Akkordeon-Orchesters
DESCRIPTION:
URL:http://akkordeonverein.at/event/konzert-des-kaerntner-akkordeon-orchesters/
LOCATION:Kärnten
END:VEVENT
BEGIN:VEVENT
DTSTART;TZID=Europe/Berlin:20240427T090000
DTEND;TZID=Europe/Berlin:20240427T180000
DTSTAMP:20260419T164435
CREATED:20231211T205230Z
LAST-MODIFIED:20231211T205230Z
UID:1710-1714208400-1714240800@akkordeonverein.at
SUMMARY:Probe Akkordeonorchester
DESCRIPTION:3. Gemeinsame Probe. Ort wird noch bekanntgegeben.
URL:http://akkordeonverein.at/event/probe-akkordeonorchester-2/
LOCATION:Kärnten
END:VEVENT
BEGIN:VEVENT
DTSTART;TZID=Europe/Berlin:20240420T090000
DTEND;TZID=Europe/Berlin:20240420T160000
DTSTAMP:20260419T164435
CREATED:20231211T205116Z
LAST-MODIFIED:20231211T205138Z
UID:1707-1713603600-1713628800@akkordeonverein.at
SUMMARY:Probe Akkordeonorchester
DESCRIPTION:2. Gemeinsame Probe. Ort wird noch bekanntgegeben.
URL:http://akkordeonverein.at/event/probe-akkordeonorchester/
LOCATION:Kärnten
END:VEVENT
BEGIN:VEVENT
DTSTART;TZID=Europe/Berlin:20240406T090000
DTEND;TZID=Europe/Berlin:20240406T160000
DTSTAMP:20260419T164435
CREATED:20231211T204925Z
LAST-MODIFIED:20231211T204925Z
UID:1705-1712394000-1712419200@akkordeonverein.at
SUMMARY:Probe Kärntner Akkordeonorchester
DESCRIPTION:Gemeinsame Probe\, Ort wird noch bekanntgegeben.
URL:http://akkordeonverein.at/event/probe-kaerntner-akkordeonorchester-4/
LOCATION:Kärnten
END:VEVENT
BEGIN:VEVENT
DTSTART;VALUE=DATE:20240305
DTEND;VALUE=DATE:20240307
DTSTAMP:20260419T164435
CREATED:20240127T194453Z
LAST-MODIFIED:20240127T194453Z
UID:1793-1709596800-1709769599@akkordeonverein.at
SUMMARY:prima la musica - Wertung Akkordeon
DESCRIPTION:Nähere Infos unter: musikderjugend.at
URL:http://akkordeonverein.at/event/prima-la-musica-wertung-akkordeon/
LOCATION:CMA – Ossiach\, Ossiach 1\, Ossiach\, Kärnten\, 9570\, Österreich
END:VEVENT
BEGIN:VEVENT
DTSTART;TZID=Europe/Berlin:20240304T193000
DTEND;TZID=Europe/Berlin:20240304T210000
DTSTAMP:20260419T164435
CREATED:20240127T194300Z
LAST-MODIFIED:20240127T194300Z
UID:1790-1709580600-1709586000@akkordeonverein.at
SUMMARY:Composer in Residence
DESCRIPTION:Das Ensemble NeuRaum (u.a. Christoph Hofer – Akkordeon) präsentiert Werke des Komponisten Gerhard E. Winkler. Nähere Infos unter: zzm.at
URL:http://akkordeonverein.at/event/composer-in-residence/
LOCATION:Konzerthaus Klagenfurt\, Mießtalerstr. 8\, Klagenfurt am Wörthersee\, Kärnten\, 9020
END:VEVENT
BEGIN:VEVENT
DTSTART;TZID=Europe/Berlin:20240222T180000
DTEND;TZID=Europe/Berlin:20240222T193000
DTSTAMP:20260419T164435
CREATED:20240207T091351Z
LAST-MODIFIED:20240207T094308Z
UID:1814-1708624800-1708630200@akkordeonverein.at
SUMMARY:Akkordeonabend
DESCRIPTION:Herzliche Einladung zum Akkordeonabend\, der am Donnerstag\, 22.2.2024 um 18.00 in Tischlersaal Hermagoras in Klagenfurt stattfindet! \nIm Konzert werden Schüler der slowenischen Musikschule des Landes Kärnten und der Musikschule aus Velenje (Slowenien) auftreten sowie ein Student der Gustav Mahler Privatuniversität von Klasse Prof. Pechmann. \nBeim Konzert werden vorwiegend Teilnehmer des Wettbewerbs Prima la Musica und des Wettbewerbs für Kammermusik mit  Akkordeon in Slowenien spielen. \nDadurch wird ein reiches und buntes Programm in verschiedenen Altersstufen vorgestellt!
URL:http://akkordeonverein.at/event/akkordeonabend/
LOCATION:Tischlersaal\, Hermagoras Klagenfurt\, 10.Oktoberstr. 25\, Klagenfurt am Wörthersee\, Kärnten\, 9020\, Österreich
END:VEVENT
BEGIN:VEVENT
DTSTART;TZID=Europe/Berlin:20240131T190000
DTEND;TZID=Europe/Berlin:20240131T203000
DTSTAMP:20260419T164435
CREATED:20240127T193605Z
LAST-MODIFIED:20240127T193838Z
UID:1785-1706727600-1706733000@akkordeonverein.at
SUMMARY:Benefizkonzert für Wurzerhof
DESCRIPTION:Das AOIDE – Trio (Helmut Stiegler – Violine\, Christoph Hofer – Akkordeon\, Gerda Anderluh – Cello) präsentiert Werke von W.A.Mozart\, F. Martin\, A. Piazzolla u.a.. \nNähere Informationen unter: stiegler.biz
URL:http://akkordeonverein.at/event/benefizkonzert-fuer-wurzerhof/
LOCATION:Wurzerhof\, Scheifling 7\, St.Veit\, Kärnten\, 9300
END:VEVENT
BEGIN:VEVENT
DTSTART;TZID=Europe/Berlin:20240129T160000
DTEND;TZID=Europe/Berlin:20240129T173000
DTSTAMP:20260419T164435
CREATED:20231211T203853Z
LAST-MODIFIED:20231211T203853Z
UID:1696-1706544000-1706549400@akkordeonverein.at
SUMMARY:Vorspielstunde der Akkordeonklasse GMPU
DESCRIPTION:Herzliche Einladung!
URL:http://akkordeonverein.at/event/vorspielstunde-der-akkordeonklasse-gmpu/
LOCATION:Neuer Saal der GMPU\, Mießtalerstr.8\, Klagenfurt\, Kärnten\, 9020
END:VEVENT
BEGIN:VEVENT
DTSTART;VALUE=DATE:20240127
DTEND;VALUE=DATE:20240129
DTSTAMP:20260419T164435
CREATED:20231211T203005Z
LAST-MODIFIED:20231211T203042Z
UID:1689-1706313600-1706486399@akkordeonverein.at
SUMMARY:Übewochenende für Teilnehmer:innen bei prima la musica
DESCRIPTION:Der Kärntner Akkordeonverein (KAV) lädt auch diesmal wieder zum gemeinsamen\nÜbe-Wochenende für alle prima la musica TeilnehmerInnen ein. Weitere Details und Anmeldung hier.
URL:http://akkordeonverein.at/event/uebewochenende-fuer-teilnehmerinnen-bei-prima-la-musica/
LOCATION:Sodalitas – Bildungshaus\, Propsteiweg 1\, Tainach\, Kärnten\, 9121
END:VEVENT
BEGIN:VEVENT
DTSTART;TZID=Europe/Berlin:20240120T170000
DTEND;TZID=Europe/Berlin:20240120T190000
DTSTAMP:20260419T164435
CREATED:20231211T202512Z
LAST-MODIFIED:20231211T202512Z
UID:1686-1705770000-1705777200@akkordeonverein.at
SUMMARY:CD-Präsentation FinePulse
DESCRIPTION:Das Duo FinePulse (Christian Filipič – Flöte und Roman Pechmann – Akkordeon) präsentiert ihre neue CD – Fusion.
URL:http://akkordeonverein.at/event/cd-praesentation-finepulse/
LOCATION:iKult\, Südbahngürtel 24\, Klagenfurt\, Kärnten\, 9020
END:VEVENT
BEGIN:VEVENT
DTSTART;TZID=Europe/Berlin:20231220T160000
DTEND;TZID=Europe/Berlin:20231220T173000
DTSTAMP:20260419T164435
CREATED:20231211T200205Z
LAST-MODIFIED:20231211T200205Z
UID:1680-1703088000-1703093400@akkordeonverein.at
SUMMARY:Vorspielstunde der Akkordeonklasse der GMPU
DESCRIPTION:Herzliche Einladung!
URL:http://akkordeonverein.at/event/vorspielstunde-der-akkordeonklasse-der-gmpu/
LOCATION:Neuer Saal der GMPU\, Mießtalerstr.8\, Klagenfurt\, Kärnten\, 9020
END:VEVENT
BEGIN:VEVENT
DTSTART;TZID=Europe/Berlin:20231217T180000
DTEND;TZID=Europe/Berlin:20231217T200000
DTSTAMP:20260419T164435
CREATED:20231211T202133Z
LAST-MODIFIED:20231211T202234Z
UID:1683-1702836000-1702843200@akkordeonverein.at
SUMMARY:Adventkonzert / Adventno - Božični Koncert
DESCRIPTION:Das Duo FinePulse (Christian Filipič – Flöte und Roman Pechmann – Akkordeon) spielt mit bei Adventkonzert des Gesangsvereins Zell-Pfarre.
URL:http://akkordeonverein.at/event/adventkonzert-adventno-bozicni-koncert/
LOCATION:Pfarrkirche Zell-Pfarre
END:VEVENT
END:VCALENDAR