BEGIN:VCALENDAR
VERSION:2.0
PRODID:-//Kärntner Akkordeonverein - ECPv6.3.2//NONSGML v1.0//EN
CALSCALE:GREGORIAN
METHOD:PUBLISH
X-ORIGINAL-URL:http://akkordeonverein.at
X-WR-CALDESC:Veranstaltungen für Kärntner Akkordeonverein
REFRESH-INTERVAL;VALUE=DURATION:PT1H
X-Robots-Tag:noindex
X-PUBLISHED-TTL:PT1H
BEGIN:VTIMEZONE
TZID:Europe/Berlin
BEGIN:DAYLIGHT
TZOFFSETFROM:+0100
TZOFFSETTO:+0200
TZNAME:CEST
DTSTART:20240331T010000
END:DAYLIGHT
BEGIN:STANDARD
TZOFFSETFROM:+0200
TZOFFSETTO:+0100
TZNAME:CET
DTSTART:20241027T010000
END:STANDARD
END:VTIMEZONE
BEGIN:VEVENT
DTSTART;VALUE=DATE:20240127
DTEND;VALUE=DATE:20240129
DTSTAMP:20260425T214156
CREATED:20231211T203005Z
LAST-MODIFIED:20231211T203042Z
UID:1689-1706313600-1706486399@akkordeonverein.at
SUMMARY:Übewochenende für Teilnehmer:innen bei prima la musica
DESCRIPTION:Der Kärntner Akkordeonverein (KAV) lädt auch diesmal wieder zum gemeinsamen\nÜbe-Wochenende für alle prima la musica TeilnehmerInnen ein. Weitere Details und Anmeldung hier.
URL:http://akkordeonverein.at/event/uebewochenende-fuer-teilnehmerinnen-bei-prima-la-musica/
LOCATION:Sodalitas – Bildungshaus\, Propsteiweg 1\, Tainach\, Kärnten\, 9121
END:VEVENT
END:VCALENDAR